BEGIN:VCALENDAR
VERSION:2.0
PRODID:-//Chalford Hill - ECPv6.15.20//NONSGML v1.0//EN
CALSCALE:GREGORIAN
METHOD:PUBLISH
X-WR-CALNAME:Chalford Hill
X-ORIGINAL-URL:https://chalfordhill.org.uk
X-WR-CALDESC:Events for Chalford Hill
REFRESH-INTERVAL;VALUE=DURATION:PT1H
X-Robots-Tag:noindex
X-PUBLISHED-TTL:PT1H
BEGIN:VTIMEZONE
TZID:Europe/London
BEGIN:DAYLIGHT
TZOFFSETFROM:+0000
TZOFFSETTO:+0100
TZNAME:BST
DTSTART:20250330T010000
END:DAYLIGHT
BEGIN:STANDARD
TZOFFSETFROM:+0100
TZOFFSETTO:+0000
TZNAME:GMT
DTSTART:20251026T010000
END:STANDARD
BEGIN:DAYLIGHT
TZOFFSETFROM:+0000
TZOFFSETTO:+0100
TZNAME:BST
DTSTART:20260329T010000
END:DAYLIGHT
BEGIN:STANDARD
TZOFFSETFROM:+0100
TZOFFSETTO:+0000
TZNAME:GMT
DTSTART:20261025T010000
END:STANDARD
BEGIN:DAYLIGHT
TZOFFSETFROM:+0000
TZOFFSETTO:+0100
TZNAME:BST
DTSTART:20270328T010000
END:DAYLIGHT
BEGIN:STANDARD
TZOFFSETFROM:+0100
TZOFFSETTO:+0000
TZNAME:GMT
DTSTART:20271031T010000
END:STANDARD
END:VTIMEZONE
BEGIN:VEVENT
DTSTART;TZID=Europe/London:20260218T193000
DTEND;TZID=Europe/London:20260218T210000
DTSTAMP:20260424T195030
CREATED:20260122T142552Z
LAST-MODIFIED:20260122T142553Z
UID:10000026-1771443000-1771448400@chalfordhill.org.uk
SUMMARY:Chalford Parish Local History Group
DESCRIPTION:Venue: France Lynch Church Rooms \nTime: 7:30pm \nAnnual slide show – France Lynch’s Hidden Graveyard \nA small group of members will be presenting the results of their research and exploration carried out on the old Starry Hill dissenter’s graveyard in France Lynch. \nStarting with an overgrown graveyard that many people don’t even notice\, curiosity led us to an intriguing trail of discovery\, featuring long lost chapels\, family graves\, wealthy clothiers\, fascinating tales of the vicissitudes of life\, mysterious vaults – and even a skull. Come along and see what we uncovered and how we did it. \nWe meet monthly except August and December\, normally on the third Wednesday of the month. \nOur current programme is” here \nPrice: Members £2 non-members £3 (membership £5 per annum)
URL:https://chalfordhill.org.uk/eventchalfordhill/chalford-parish-local-history-group-8-13
LOCATION:France Lynch Church Rooms\, Lynch Rd\, Stroud\, GL6 8LL\, United Kingdom
CATEGORIES:History
ATTACH;FMTTYPE=image/png:https://chalfordhill.org.uk/wp-content/uploads/2024/01/local-history-grouprev.png
END:VEVENT
END:VCALENDAR