BEGIN:VCALENDAR
VERSION:2.0
PRODID:-//Chalford Hill - ECPv6.15.20//NONSGML v1.0//EN
CALSCALE:GREGORIAN
METHOD:PUBLISH
X-ORIGINAL-URL:https://chalfordhill.org.uk
X-WR-CALDESC:Events for Chalford Hill
REFRESH-INTERVAL;VALUE=DURATION:PT1H
X-Robots-Tag:noindex
X-PUBLISHED-TTL:PT1H
BEGIN:VTIMEZONE
TZID:Europe/London
BEGIN:DAYLIGHT
TZOFFSETFROM:+0000
TZOFFSETTO:+0100
TZNAME:BST
DTSTART:20250330T010000
END:DAYLIGHT
BEGIN:STANDARD
TZOFFSETFROM:+0100
TZOFFSETTO:+0000
TZNAME:GMT
DTSTART:20251026T010000
END:STANDARD
BEGIN:DAYLIGHT
TZOFFSETFROM:+0000
TZOFFSETTO:+0100
TZNAME:BST
DTSTART:20260329T010000
END:DAYLIGHT
BEGIN:STANDARD
TZOFFSETFROM:+0100
TZOFFSETTO:+0000
TZNAME:GMT
DTSTART:20261025T010000
END:STANDARD
BEGIN:DAYLIGHT
TZOFFSETFROM:+0000
TZOFFSETTO:+0100
TZNAME:BST
DTSTART:20270328T010000
END:DAYLIGHT
BEGIN:STANDARD
TZOFFSETFROM:+0100
TZOFFSETTO:+0000
TZNAME:GMT
DTSTART:20271031T010000
END:STANDARD
END:VTIMEZONE
BEGIN:VEVENT
DTSTART;TZID=Europe/London:20260318T193000
DTEND;TZID=Europe/London:20260318T210000
DTSTAMP:20260424T164910
CREATED:20260303T172941Z
LAST-MODIFIED:20260303T172944Z
UID:10000027-1773862200-1773867600@chalfordhill.org.uk
SUMMARY:Chalford Parish Local History Group
DESCRIPTION:Venue: France Lynch Church Rooms \nDate: Wednesday 18 March \nTime: 7:30pm \nA History of Gloucestershire’s Inland Waterways (Tony Conder) \nTony was curator of the British Waterways Collection for 25 years before coming to Gloucester in 1988 to open the National Waterways Museum.  He is one of Britain’s foremost experts on the history of canals and waterways and in this talk he will be examining the development of the County’s inland waterways. \nWe meet monthly except August and December\, normally on the third Wednesday of the month. \nOur current programme is” here \nPrice: Members £2 non-members £3 (membership £5 per annum)
URL:https://chalfordhill.org.uk/eventchalfordhill/chalford-parish-local-history-group-8-14
LOCATION:France Lynch Church Rooms\, Lynch Rd\, Stroud\, GL6 8LL\, United Kingdom
CATEGORIES:History
ATTACH;FMTTYPE=image/png:https://chalfordhill.org.uk/wp-content/uploads/2024/01/local-history-grouprev.png
END:VEVENT
END:VCALENDAR