BEGIN:VCALENDAR
VERSION:2.0
PRODID:-//Chalford Hill - ECPv6.15.20//NONSGML v1.0//EN
CALSCALE:GREGORIAN
METHOD:PUBLISH
X-WR-CALNAME:Chalford Hill
X-ORIGINAL-URL:https://chalfordhill.org.uk
X-WR-CALDESC:Events for Chalford Hill
REFRESH-INTERVAL;VALUE=DURATION:PT1H
X-Robots-Tag:noindex
X-PUBLISHED-TTL:PT1H
BEGIN:VTIMEZONE
TZID:Europe/London
BEGIN:DAYLIGHT
TZOFFSETFROM:+0000
TZOFFSETTO:+0100
TZNAME:BST
DTSTART:20270328T010000
END:DAYLIGHT
BEGIN:STANDARD
TZOFFSETFROM:+0100
TZOFFSETTO:+0000
TZNAME:GMT
DTSTART:20271031T010000
END:STANDARD
BEGIN:DAYLIGHT
TZOFFSETFROM:+0000
TZOFFSETTO:+0100
TZNAME:BST
DTSTART:20280326T010000
END:DAYLIGHT
BEGIN:STANDARD
TZOFFSETFROM:+0100
TZOFFSETTO:+0000
TZNAME:GMT
DTSTART:20281029T010000
END:STANDARD
BEGIN:DAYLIGHT
TZOFFSETFROM:+0000
TZOFFSETTO:+0100
TZNAME:BST
DTSTART:20290325T010000
END:DAYLIGHT
BEGIN:STANDARD
TZOFFSETFROM:+0100
TZOFFSETTO:+0000
TZNAME:GMT
DTSTART:20291028T010000
END:STANDARD
BEGIN:DAYLIGHT
TZOFFSETFROM:+0000
TZOFFSETTO:+0100
TZNAME:BST
DTSTART:20300331T010000
END:DAYLIGHT
BEGIN:STANDARD
TZOFFSETFROM:+0100
TZOFFSETTO:+0000
TZNAME:GMT
DTSTART:20301027T010000
END:STANDARD
BEGIN:DAYLIGHT
TZOFFSETFROM:+0000
TZOFFSETTO:+0100
TZNAME:BST
DTSTART:20310330T010000
END:DAYLIGHT
BEGIN:STANDARD
TZOFFSETFROM:+0100
TZOFFSETTO:+0000
TZNAME:GMT
DTSTART:20311026T010000
END:STANDARD
END:VTIMEZONE
BEGIN:VEVENT
DTSTART;TZID=Europe/London:20280517T193000
DTEND;TZID=Europe/London:20280517T210000
DTSTAMP:20260424T144727
CREATED:20240925T152818Z
LAST-MODIFIED:20240925T152819Z
UID:10000053-1842204600-1842210000@chalfordhill.org.uk
SUMMARY:Chalford Parish Local History Group
DESCRIPTION:Venue: France Lynch Church Rooms \nTime: 7:30pm \nWe meet monthly except August and December\, normally on the third Wednesday of the month. \nOur current programme is” here \nPrice: Members £2 non-members £3 (membership £5 per annum)
URL:https://chalfordhill.org.uk/eventchalfordhill/chalford-parish-local-history-group-8/2028-05-17
LOCATION:France Lynch Church Rooms\, Lynch Rd\, Stroud\, GL6 8LL\, United Kingdom
CATEGORIES:History
ATTACH;FMTTYPE=image/png:https://chalfordhill.org.uk/wp-content/uploads/2024/01/local-history-grouprev.png
END:VEVENT
BEGIN:VEVENT
DTSTART;TZID=Europe/London:20280621T193000
DTEND;TZID=Europe/London:20280621T210000
DTSTAMP:20260424T144727
CREATED:20240925T152818Z
LAST-MODIFIED:20240925T152819Z
UID:10000054-1845228600-1845234000@chalfordhill.org.uk
SUMMARY:Chalford Parish Local History Group
DESCRIPTION:Venue: France Lynch Church Rooms \nTime: 7:30pm \nWe meet monthly except August and December\, normally on the third Wednesday of the month. \nOur current programme is” here \nPrice: Members £2 non-members £3 (membership £5 per annum)
URL:https://chalfordhill.org.uk/eventchalfordhill/chalford-parish-local-history-group-8/2028-06-21
LOCATION:France Lynch Church Rooms\, Lynch Rd\, Stroud\, GL6 8LL\, United Kingdom
CATEGORIES:History
ATTACH;FMTTYPE=image/png:https://chalfordhill.org.uk/wp-content/uploads/2024/01/local-history-grouprev.png
END:VEVENT
BEGIN:VEVENT
DTSTART;TZID=Europe/London:20280719T193000
DTEND;TZID=Europe/London:20280719T210000
DTSTAMP:20260424T144727
CREATED:20240925T152818Z
LAST-MODIFIED:20240925T152819Z
UID:10000055-1847647800-1847653200@chalfordhill.org.uk
SUMMARY:Chalford Parish Local History Group
DESCRIPTION:Venue: France Lynch Church Rooms \nTime: 7:30pm \nWe meet monthly except August and December\, normally on the third Wednesday of the month. \nOur current programme is” here \nPrice: Members £2 non-members £3 (membership £5 per annum)
URL:https://chalfordhill.org.uk/eventchalfordhill/chalford-parish-local-history-group-8/2028-07-19
LOCATION:France Lynch Church Rooms\, Lynch Rd\, Stroud\, GL6 8LL\, United Kingdom
CATEGORIES:History
ATTACH;FMTTYPE=image/png:https://chalfordhill.org.uk/wp-content/uploads/2024/01/local-history-grouprev.png
END:VEVENT
BEGIN:VEVENT
DTSTART;TZID=Europe/London:20280816T193000
DTEND;TZID=Europe/London:20280816T210000
DTSTAMP:20260424T144727
CREATED:20240925T152818Z
LAST-MODIFIED:20240925T152819Z
UID:10000056-1850067000-1850072400@chalfordhill.org.uk
SUMMARY:Chalford Parish Local History Group
DESCRIPTION:Venue: France Lynch Church Rooms \nTime: 7:30pm \nWe meet monthly except August and December\, normally on the third Wednesday of the month. \nOur current programme is” here \nPrice: Members £2 non-members £3 (membership £5 per annum)
URL:https://chalfordhill.org.uk/eventchalfordhill/chalford-parish-local-history-group-8/2028-08-16
LOCATION:France Lynch Church Rooms\, Lynch Rd\, Stroud\, GL6 8LL\, United Kingdom
CATEGORIES:History
ATTACH;FMTTYPE=image/png:https://chalfordhill.org.uk/wp-content/uploads/2024/01/local-history-grouprev.png
END:VEVENT
BEGIN:VEVENT
DTSTART;TZID=Europe/London:20280920T193000
DTEND;TZID=Europe/London:20280920T210000
DTSTAMP:20260424T144727
CREATED:20240925T152818Z
LAST-MODIFIED:20240925T152819Z
UID:10000057-1853091000-1853096400@chalfordhill.org.uk
SUMMARY:Chalford Parish Local History Group
DESCRIPTION:Venue: France Lynch Church Rooms \nTime: 7:30pm \nWe meet monthly except August and December\, normally on the third Wednesday of the month. \nOur current programme is” here \nPrice: Members £2 non-members £3 (membership £5 per annum)
URL:https://chalfordhill.org.uk/eventchalfordhill/chalford-parish-local-history-group-8/2028-09-20
LOCATION:France Lynch Church Rooms\, Lynch Rd\, Stroud\, GL6 8LL\, United Kingdom
CATEGORIES:History
ATTACH;FMTTYPE=image/png:https://chalfordhill.org.uk/wp-content/uploads/2024/01/local-history-grouprev.png
END:VEVENT
BEGIN:VEVENT
DTSTART;TZID=Europe/London:20281018T193000
DTEND;TZID=Europe/London:20281018T210000
DTSTAMP:20260424T144727
CREATED:20240925T152818Z
LAST-MODIFIED:20240925T152819Z
UID:10000058-1855510200-1855515600@chalfordhill.org.uk
SUMMARY:Chalford Parish Local History Group
DESCRIPTION:Venue: France Lynch Church Rooms \nTime: 7:30pm \nWe meet monthly except August and December\, normally on the third Wednesday of the month. \nOur current programme is” here \nPrice: Members £2 non-members £3 (membership £5 per annum)
URL:https://chalfordhill.org.uk/eventchalfordhill/chalford-parish-local-history-group-8/2028-10-18
LOCATION:France Lynch Church Rooms\, Lynch Rd\, Stroud\, GL6 8LL\, United Kingdom
CATEGORIES:History
ATTACH;FMTTYPE=image/png:https://chalfordhill.org.uk/wp-content/uploads/2024/01/local-history-grouprev.png
END:VEVENT
BEGIN:VEVENT
DTSTART;TZID=Europe/London:20281115T193000
DTEND;TZID=Europe/London:20281115T210000
DTSTAMP:20260424T144727
CREATED:20240925T152818Z
LAST-MODIFIED:20240925T152819Z
UID:10000059-1857929400-1857934800@chalfordhill.org.uk
SUMMARY:Chalford Parish Local History Group
DESCRIPTION:Venue: France Lynch Church Rooms \nTime: 7:30pm \nWe meet monthly except August and December\, normally on the third Wednesday of the month. \nOur current programme is” here \nPrice: Members £2 non-members £3 (membership £5 per annum)
URL:https://chalfordhill.org.uk/eventchalfordhill/chalford-parish-local-history-group-8/2028-11-15
LOCATION:France Lynch Church Rooms\, Lynch Rd\, Stroud\, GL6 8LL\, United Kingdom
CATEGORIES:History
ATTACH;FMTTYPE=image/png:https://chalfordhill.org.uk/wp-content/uploads/2024/01/local-history-grouprev.png
END:VEVENT
BEGIN:VEVENT
DTSTART;TZID=Europe/London:20281220T193000
DTEND;TZID=Europe/London:20281220T210000
DTSTAMP:20260424T144727
CREATED:20240925T152818Z
LAST-MODIFIED:20240925T152819Z
UID:10000060-1860953400-1860958800@chalfordhill.org.uk
SUMMARY:Chalford Parish Local History Group
DESCRIPTION:Venue: France Lynch Church Rooms \nTime: 7:30pm \nWe meet monthly except August and December\, normally on the third Wednesday of the month. \nOur current programme is” here \nPrice: Members £2 non-members £3 (membership £5 per annum)
URL:https://chalfordhill.org.uk/eventchalfordhill/chalford-parish-local-history-group-8/2028-12-20
LOCATION:France Lynch Church Rooms\, Lynch Rd\, Stroud\, GL6 8LL\, United Kingdom
CATEGORIES:History
ATTACH;FMTTYPE=image/png:https://chalfordhill.org.uk/wp-content/uploads/2024/01/local-history-grouprev.png
END:VEVENT
BEGIN:VEVENT
DTSTART;TZID=Europe/London:20290117T193000
DTEND;TZID=Europe/London:20290117T210000
DTSTAMP:20260424T144727
CREATED:20240925T152818Z
LAST-MODIFIED:20240925T152819Z
UID:10001150-1863372600-1863378000@chalfordhill.org.uk
SUMMARY:Chalford Parish Local History Group
DESCRIPTION:Venue: France Lynch Church Rooms \nTime: 7:30pm \nWe meet monthly except August and December\, normally on the third Wednesday of the month. \nOur current programme is” here \nPrice: Members £2 non-members £3 (membership £5 per annum)
URL:https://chalfordhill.org.uk/eventchalfordhill/chalford-parish-local-history-group-8/2029-01-17
LOCATION:France Lynch Church Rooms\, Lynch Rd\, Stroud\, GL6 8LL\, United Kingdom
CATEGORIES:History
ATTACH;FMTTYPE=image/png:https://chalfordhill.org.uk/wp-content/uploads/2024/01/local-history-grouprev.png
END:VEVENT
BEGIN:VEVENT
DTSTART;TZID=Europe/London:20290221T193000
DTEND;TZID=Europe/London:20290221T210000
DTSTAMP:20260424T144727
CREATED:20240925T152818Z
LAST-MODIFIED:20240925T152819Z
UID:10003859-1866396600-1866402000@chalfordhill.org.uk
SUMMARY:Chalford Parish Local History Group
DESCRIPTION:Venue: France Lynch Church Rooms \nTime: 7:30pm \nWe meet monthly except August and December\, normally on the third Wednesday of the month. \nOur current programme is” here \nPrice: Members £2 non-members £3 (membership £5 per annum)
URL:https://chalfordhill.org.uk/eventchalfordhill/chalford-parish-local-history-group-8/2029-02-21
LOCATION:France Lynch Church Rooms\, Lynch Rd\, Stroud\, GL6 8LL\, United Kingdom
CATEGORIES:History
ATTACH;FMTTYPE=image/png:https://chalfordhill.org.uk/wp-content/uploads/2024/01/local-history-grouprev.png
END:VEVENT
BEGIN:VEVENT
DTSTART;TZID=Europe/London:20290321T193000
DTEND;TZID=Europe/London:20290321T210000
DTSTAMP:20260424T144727
CREATED:20240925T152818Z
LAST-MODIFIED:20240925T152819Z
UID:10003927-1868815800-1868821200@chalfordhill.org.uk
SUMMARY:Chalford Parish Local History Group
DESCRIPTION:Venue: France Lynch Church Rooms \nTime: 7:30pm \nWe meet monthly except August and December\, normally on the third Wednesday of the month. \nOur current programme is” here \nPrice: Members £2 non-members £3 (membership £5 per annum)
URL:https://chalfordhill.org.uk/eventchalfordhill/chalford-parish-local-history-group-8/2029-03-21
LOCATION:France Lynch Church Rooms\, Lynch Rd\, Stroud\, GL6 8LL\, United Kingdom
CATEGORIES:History
ATTACH;FMTTYPE=image/png:https://chalfordhill.org.uk/wp-content/uploads/2024/01/local-history-grouprev.png
END:VEVENT
BEGIN:VEVENT
DTSTART;TZID=Europe/London:20290418T193000
DTEND;TZID=Europe/London:20290418T210000
DTSTAMP:20260424T144727
CREATED:20240925T152818Z
LAST-MODIFIED:20240925T152819Z
UID:10003938-1871235000-1871240400@chalfordhill.org.uk
SUMMARY:Chalford Parish Local History Group
DESCRIPTION:Venue: France Lynch Church Rooms \nTime: 7:30pm \nWe meet monthly except August and December\, normally on the third Wednesday of the month. \nOur current programme is” here \nPrice: Members £2 non-members £3 (membership £5 per annum)
URL:https://chalfordhill.org.uk/eventchalfordhill/chalford-parish-local-history-group-8/2029-04-18
LOCATION:France Lynch Church Rooms\, Lynch Rd\, Stroud\, GL6 8LL\, United Kingdom
CATEGORIES:History
ATTACH;FMTTYPE=image/png:https://chalfordhill.org.uk/wp-content/uploads/2024/01/local-history-grouprev.png
END:VEVENT
BEGIN:VEVENT
DTSTART;TZID=Europe/London:20290516T193000
DTEND;TZID=Europe/London:20290516T210000
DTSTAMP:20260424T144727
CREATED:20240925T152818Z
LAST-MODIFIED:20240925T152819Z
UID:10006308-1873654200-1873659600@chalfordhill.org.uk
SUMMARY:Chalford Parish Local History Group
DESCRIPTION:Venue: France Lynch Church Rooms \nTime: 7:30pm \nWe meet monthly except August and December\, normally on the third Wednesday of the month. \nOur current programme is” here \nPrice: Members £2 non-members £3 (membership £5 per annum)
URL:https://chalfordhill.org.uk/eventchalfordhill/chalford-parish-local-history-group-8/2029-05-16
LOCATION:France Lynch Church Rooms\, Lynch Rd\, Stroud\, GL6 8LL\, United Kingdom
CATEGORIES:History
ATTACH;FMTTYPE=image/png:https://chalfordhill.org.uk/wp-content/uploads/2024/01/local-history-grouprev.png
END:VEVENT
BEGIN:VEVENT
DTSTART;TZID=Europe/London:20290620T193000
DTEND;TZID=Europe/London:20290620T210000
DTSTAMP:20260424T144727
CREATED:20240925T152818Z
LAST-MODIFIED:20240925T152819Z
UID:10006586-1876678200-1876683600@chalfordhill.org.uk
SUMMARY:Chalford Parish Local History Group
DESCRIPTION:Venue: France Lynch Church Rooms \nTime: 7:30pm \nWe meet monthly except August and December\, normally on the third Wednesday of the month. \nOur current programme is” here \nPrice: Members £2 non-members £3 (membership £5 per annum)
URL:https://chalfordhill.org.uk/eventchalfordhill/chalford-parish-local-history-group-8/2029-06-20
LOCATION:France Lynch Church Rooms\, Lynch Rd\, Stroud\, GL6 8LL\, United Kingdom
CATEGORIES:History
ATTACH;FMTTYPE=image/png:https://chalfordhill.org.uk/wp-content/uploads/2024/01/local-history-grouprev.png
END:VEVENT
BEGIN:VEVENT
DTSTART;TZID=Europe/London:20290718T193000
DTEND;TZID=Europe/London:20290718T210000
DTSTAMP:20260424T144727
CREATED:20240925T152818Z
LAST-MODIFIED:20240925T152819Z
UID:10006948-1879097400-1879102800@chalfordhill.org.uk
SUMMARY:Chalford Parish Local History Group
DESCRIPTION:Venue: France Lynch Church Rooms \nTime: 7:30pm \nWe meet monthly except August and December\, normally on the third Wednesday of the month. \nOur current programme is” here \nPrice: Members £2 non-members £3 (membership £5 per annum)
URL:https://chalfordhill.org.uk/eventchalfordhill/chalford-parish-local-history-group-8/2029-07-18
LOCATION:France Lynch Church Rooms\, Lynch Rd\, Stroud\, GL6 8LL\, United Kingdom
CATEGORIES:History
ATTACH;FMTTYPE=image/png:https://chalfordhill.org.uk/wp-content/uploads/2024/01/local-history-grouprev.png
END:VEVENT
BEGIN:VEVENT
DTSTART;TZID=Europe/London:20290815T193000
DTEND;TZID=Europe/London:20290815T210000
DTSTAMP:20260424T144727
CREATED:20240925T152818Z
LAST-MODIFIED:20240925T152819Z
UID:10006949-1881516600-1881522000@chalfordhill.org.uk
SUMMARY:Chalford Parish Local History Group
DESCRIPTION:Venue: France Lynch Church Rooms \nTime: 7:30pm \nWe meet monthly except August and December\, normally on the third Wednesday of the month. \nOur current programme is” here \nPrice: Members £2 non-members £3 (membership £5 per annum)
URL:https://chalfordhill.org.uk/eventchalfordhill/chalford-parish-local-history-group-8/2029-08-15
LOCATION:France Lynch Church Rooms\, Lynch Rd\, Stroud\, GL6 8LL\, United Kingdom
CATEGORIES:History
ATTACH;FMTTYPE=image/png:https://chalfordhill.org.uk/wp-content/uploads/2024/01/local-history-grouprev.png
END:VEVENT
BEGIN:VEVENT
DTSTART;TZID=Europe/London:20290919T193000
DTEND;TZID=Europe/London:20290919T210000
DTSTAMP:20260424T144727
CREATED:20240925T152818Z
LAST-MODIFIED:20240925T152819Z
UID:10006975-1884540600-1884546000@chalfordhill.org.uk
SUMMARY:Chalford Parish Local History Group
DESCRIPTION:Venue: France Lynch Church Rooms \nTime: 7:30pm \nWe meet monthly except August and December\, normally on the third Wednesday of the month. \nOur current programme is” here \nPrice: Members £2 non-members £3 (membership £5 per annum)
URL:https://chalfordhill.org.uk/eventchalfordhill/chalford-parish-local-history-group-8/2029-09-19
LOCATION:France Lynch Church Rooms\, Lynch Rd\, Stroud\, GL6 8LL\, United Kingdom
CATEGORIES:History
ATTACH;FMTTYPE=image/png:https://chalfordhill.org.uk/wp-content/uploads/2024/01/local-history-grouprev.png
END:VEVENT
BEGIN:VEVENT
DTSTART;TZID=Europe/London:20291017T193000
DTEND;TZID=Europe/London:20291017T210000
DTSTAMP:20260424T144727
CREATED:20240925T152818Z
LAST-MODIFIED:20240925T152819Z
UID:10006981-1886959800-1886965200@chalfordhill.org.uk
SUMMARY:Chalford Parish Local History Group
DESCRIPTION:Venue: France Lynch Church Rooms \nTime: 7:30pm \nWe meet monthly except August and December\, normally on the third Wednesday of the month. \nOur current programme is” here \nPrice: Members £2 non-members £3 (membership £5 per annum)
URL:https://chalfordhill.org.uk/eventchalfordhill/chalford-parish-local-history-group-8/2029-10-17
LOCATION:France Lynch Church Rooms\, Lynch Rd\, Stroud\, GL6 8LL\, United Kingdom
CATEGORIES:History
ATTACH;FMTTYPE=image/png:https://chalfordhill.org.uk/wp-content/uploads/2024/01/local-history-grouprev.png
END:VEVENT
BEGIN:VEVENT
DTSTART;TZID=Europe/London:20291121T193000
DTEND;TZID=Europe/London:20291121T210000
DTSTAMP:20260424T144727
CREATED:20240925T152818Z
LAST-MODIFIED:20240925T152819Z
UID:10007122-1889983800-1889989200@chalfordhill.org.uk
SUMMARY:Chalford Parish Local History Group
DESCRIPTION:Venue: France Lynch Church Rooms \nTime: 7:30pm \nWe meet monthly except August and December\, normally on the third Wednesday of the month. \nOur current programme is” here \nPrice: Members £2 non-members £3 (membership £5 per annum)
URL:https://chalfordhill.org.uk/eventchalfordhill/chalford-parish-local-history-group-8/2029-11-21
LOCATION:France Lynch Church Rooms\, Lynch Rd\, Stroud\, GL6 8LL\, United Kingdom
CATEGORIES:History
ATTACH;FMTTYPE=image/png:https://chalfordhill.org.uk/wp-content/uploads/2024/01/local-history-grouprev.png
END:VEVENT
BEGIN:VEVENT
DTSTART;TZID=Europe/London:20291219T193000
DTEND;TZID=Europe/London:20291219T210000
DTSTAMP:20260424T144727
CREATED:20240925T152818Z
LAST-MODIFIED:20240925T152819Z
UID:10007471-1892403000-1892408400@chalfordhill.org.uk
SUMMARY:Chalford Parish Local History Group
DESCRIPTION:Venue: France Lynch Church Rooms \nTime: 7:30pm \nWe meet monthly except August and December\, normally on the third Wednesday of the month. \nOur current programme is” here \nPrice: Members £2 non-members £3 (membership £5 per annum)
URL:https://chalfordhill.org.uk/eventchalfordhill/chalford-parish-local-history-group-8/2029-12-19
LOCATION:France Lynch Church Rooms\, Lynch Rd\, Stroud\, GL6 8LL\, United Kingdom
CATEGORIES:History
ATTACH;FMTTYPE=image/png:https://chalfordhill.org.uk/wp-content/uploads/2024/01/local-history-grouprev.png
END:VEVENT
BEGIN:VEVENT
DTSTART;TZID=Europe/London:20300116T193000
DTEND;TZID=Europe/London:20300116T210000
DTSTAMP:20260424T144727
CREATED:20240925T152818Z
LAST-MODIFIED:20240925T152819Z
UID:10007472-1894822200-1894827600@chalfordhill.org.uk
SUMMARY:Chalford Parish Local History Group
DESCRIPTION:Venue: France Lynch Church Rooms \nTime: 7:30pm \nWe meet monthly except August and December\, normally on the third Wednesday of the month. \nOur current programme is” here \nPrice: Members £2 non-members £3 (membership £5 per annum)
URL:https://chalfordhill.org.uk/eventchalfordhill/chalford-parish-local-history-group-8/2030-01-16
LOCATION:France Lynch Church Rooms\, Lynch Rd\, Stroud\, GL6 8LL\, United Kingdom
CATEGORIES:History
ATTACH;FMTTYPE=image/png:https://chalfordhill.org.uk/wp-content/uploads/2024/01/local-history-grouprev.png
END:VEVENT
BEGIN:VEVENT
DTSTART;TZID=Europe/London:20300220T193000
DTEND;TZID=Europe/London:20300220T210000
DTSTAMP:20260424T144727
CREATED:20240925T152818Z
LAST-MODIFIED:20240925T152819Z
UID:10007832-1897846200-1897851600@chalfordhill.org.uk
SUMMARY:Chalford Parish Local History Group
DESCRIPTION:Venue: France Lynch Church Rooms \nTime: 7:30pm \nWe meet monthly except August and December\, normally on the third Wednesday of the month. \nOur current programme is” here \nPrice: Members £2 non-members £3 (membership £5 per annum)
URL:https://chalfordhill.org.uk/eventchalfordhill/chalford-parish-local-history-group-8/2030-02-20
LOCATION:France Lynch Church Rooms\, Lynch Rd\, Stroud\, GL6 8LL\, United Kingdom
CATEGORIES:History
ATTACH;FMTTYPE=image/png:https://chalfordhill.org.uk/wp-content/uploads/2024/01/local-history-grouprev.png
END:VEVENT
BEGIN:VEVENT
DTSTART;TZID=Europe/London:20300320T193000
DTEND;TZID=Europe/London:20300320T210000
DTSTAMP:20260424T144727
CREATED:20240925T152818Z
LAST-MODIFIED:20240925T152819Z
UID:10007838-1900265400-1900270800@chalfordhill.org.uk
SUMMARY:Chalford Parish Local History Group
DESCRIPTION:Venue: France Lynch Church Rooms \nTime: 7:30pm \nWe meet monthly except August and December\, normally on the third Wednesday of the month. \nOur current programme is” here \nPrice: Members £2 non-members £3 (membership £5 per annum)
URL:https://chalfordhill.org.uk/eventchalfordhill/chalford-parish-local-history-group-8/2030-03-20
LOCATION:France Lynch Church Rooms\, Lynch Rd\, Stroud\, GL6 8LL\, United Kingdom
CATEGORIES:History
ATTACH;FMTTYPE=image/png:https://chalfordhill.org.uk/wp-content/uploads/2024/01/local-history-grouprev.png
END:VEVENT
BEGIN:VEVENT
DTSTART;TZID=Europe/London:20300417T193000
DTEND;TZID=Europe/London:20300417T210000
DTSTAMP:20260424T144727
CREATED:20240925T152818Z
LAST-MODIFIED:20240925T152819Z
UID:10008152-1902684600-1902690000@chalfordhill.org.uk
SUMMARY:Chalford Parish Local History Group
DESCRIPTION:Venue: France Lynch Church Rooms \nTime: 7:30pm \nWe meet monthly except August and December\, normally on the third Wednesday of the month. \nOur current programme is” here \nPrice: Members £2 non-members £3 (membership £5 per annum)
URL:https://chalfordhill.org.uk/eventchalfordhill/chalford-parish-local-history-group-8/2030-04-17
LOCATION:France Lynch Church Rooms\, Lynch Rd\, Stroud\, GL6 8LL\, United Kingdom
CATEGORIES:History
ATTACH;FMTTYPE=image/png:https://chalfordhill.org.uk/wp-content/uploads/2024/01/local-history-grouprev.png
END:VEVENT
BEGIN:VEVENT
DTSTART;TZID=Europe/London:20300515T193000
DTEND;TZID=Europe/London:20300515T210000
DTSTAMP:20260424T144727
CREATED:20240925T152818Z
LAST-MODIFIED:20240925T152819Z
UID:10008153-1905103800-1905109200@chalfordhill.org.uk
SUMMARY:Chalford Parish Local History Group
DESCRIPTION:Venue: France Lynch Church Rooms \nTime: 7:30pm \nWe meet monthly except August and December\, normally on the third Wednesday of the month. \nOur current programme is” here \nPrice: Members £2 non-members £3 (membership £5 per annum)
URL:https://chalfordhill.org.uk/eventchalfordhill/chalford-parish-local-history-group-8/2030-05-15
LOCATION:France Lynch Church Rooms\, Lynch Rd\, Stroud\, GL6 8LL\, United Kingdom
CATEGORIES:History
ATTACH;FMTTYPE=image/png:https://chalfordhill.org.uk/wp-content/uploads/2024/01/local-history-grouprev.png
END:VEVENT
BEGIN:VEVENT
DTSTART;TZID=Europe/London:20300619T193000
DTEND;TZID=Europe/London:20300619T210000
DTSTAMP:20260424T144727
CREATED:20240925T152818Z
LAST-MODIFIED:20240925T152819Z
UID:10008171-1908127800-1908133200@chalfordhill.org.uk
SUMMARY:Chalford Parish Local History Group
DESCRIPTION:Venue: France Lynch Church Rooms \nTime: 7:30pm \nWe meet monthly except August and December\, normally on the third Wednesday of the month. \nOur current programme is” here \nPrice: Members £2 non-members £3 (membership £5 per annum)
URL:https://chalfordhill.org.uk/eventchalfordhill/chalford-parish-local-history-group-8/2030-06-19
LOCATION:France Lynch Church Rooms\, Lynch Rd\, Stroud\, GL6 8LL\, United Kingdom
CATEGORIES:History
ATTACH;FMTTYPE=image/png:https://chalfordhill.org.uk/wp-content/uploads/2024/01/local-history-grouprev.png
END:VEVENT
BEGIN:VEVENT
DTSTART;TZID=Europe/London:20300717T193000
DTEND;TZID=Europe/London:20300717T210000
DTSTAMP:20260424T144727
CREATED:20240925T152818Z
LAST-MODIFIED:20240925T152819Z
UID:10008210-1910547000-1910552400@chalfordhill.org.uk
SUMMARY:Chalford Parish Local History Group
DESCRIPTION:Venue: France Lynch Church Rooms \nTime: 7:30pm \nWe meet monthly except August and December\, normally on the third Wednesday of the month. \nOur current programme is” here \nPrice: Members £2 non-members £3 (membership £5 per annum)
URL:https://chalfordhill.org.uk/eventchalfordhill/chalford-parish-local-history-group-8/2030-07-17
LOCATION:France Lynch Church Rooms\, Lynch Rd\, Stroud\, GL6 8LL\, United Kingdom
CATEGORIES:History
ATTACH;FMTTYPE=image/png:https://chalfordhill.org.uk/wp-content/uploads/2024/01/local-history-grouprev.png
END:VEVENT
BEGIN:VEVENT
DTSTART;TZID=Europe/London:20300821T193000
DTEND;TZID=Europe/London:20300821T210000
DTSTAMP:20260424T144727
CREATED:20240925T152818Z
LAST-MODIFIED:20240925T152819Z
UID:10008211-1913571000-1913576400@chalfordhill.org.uk
SUMMARY:Chalford Parish Local History Group
DESCRIPTION:Venue: France Lynch Church Rooms \nTime: 7:30pm \nWe meet monthly except August and December\, normally on the third Wednesday of the month. \nOur current programme is” here \nPrice: Members £2 non-members £3 (membership £5 per annum)
URL:https://chalfordhill.org.uk/eventchalfordhill/chalford-parish-local-history-group-8/2030-08-21
LOCATION:France Lynch Church Rooms\, Lynch Rd\, Stroud\, GL6 8LL\, United Kingdom
CATEGORIES:History
ATTACH;FMTTYPE=image/png:https://chalfordhill.org.uk/wp-content/uploads/2024/01/local-history-grouprev.png
END:VEVENT
BEGIN:VEVENT
DTSTART;TZID=Europe/London:20300918T193000
DTEND;TZID=Europe/London:20300918T210000
DTSTAMP:20260424T144727
CREATED:20240925T152818Z
LAST-MODIFIED:20240925T152819Z
UID:10008251-1915990200-1915995600@chalfordhill.org.uk
SUMMARY:Chalford Parish Local History Group
DESCRIPTION:Venue: France Lynch Church Rooms \nTime: 7:30pm \nWe meet monthly except August and December\, normally on the third Wednesday of the month. \nOur current programme is” here \nPrice: Members £2 non-members £3 (membership £5 per annum)
URL:https://chalfordhill.org.uk/eventchalfordhill/chalford-parish-local-history-group-8/2030-09-18
LOCATION:France Lynch Church Rooms\, Lynch Rd\, Stroud\, GL6 8LL\, United Kingdom
CATEGORIES:History
ATTACH;FMTTYPE=image/png:https://chalfordhill.org.uk/wp-content/uploads/2024/01/local-history-grouprev.png
END:VEVENT
BEGIN:VEVENT
DTSTART;TZID=Europe/London:20301016T193000
DTEND;TZID=Europe/London:20301016T210000
DTSTAMP:20260424T144727
CREATED:20240925T152818Z
LAST-MODIFIED:20240925T152819Z
UID:10008272-1918409400-1918414800@chalfordhill.org.uk
SUMMARY:Chalford Parish Local History Group
DESCRIPTION:Venue: France Lynch Church Rooms \nTime: 7:30pm \nWe meet monthly except August and December\, normally on the third Wednesday of the month. \nOur current programme is” here \nPrice: Members £2 non-members £3 (membership £5 per annum)
URL:https://chalfordhill.org.uk/eventchalfordhill/chalford-parish-local-history-group-8/2030-10-16
LOCATION:France Lynch Church Rooms\, Lynch Rd\, Stroud\, GL6 8LL\, United Kingdom
CATEGORIES:History
ATTACH;FMTTYPE=image/png:https://chalfordhill.org.uk/wp-content/uploads/2024/01/local-history-grouprev.png
END:VEVENT
END:VCALENDAR