BEGIN:VCALENDAR
VERSION:2.0
PRODID:-//Chalford Hill - ECPv6.15.20//NONSGML v1.0//EN
CALSCALE:GREGORIAN
METHOD:PUBLISH
X-ORIGINAL-URL:https://chalfordhill.org.uk
X-WR-CALDESC:Events for Chalford Hill
REFRESH-INTERVAL;VALUE=DURATION:PT1H
X-Robots-Tag:noindex
X-PUBLISHED-TTL:PT1H
BEGIN:VTIMEZONE
TZID:Europe/London
BEGIN:DAYLIGHT
TZOFFSETFROM:+0000
TZOFFSETTO:+0100
TZNAME:BST
DTSTART:20290325T010000
END:DAYLIGHT
BEGIN:STANDARD
TZOFFSETFROM:+0100
TZOFFSETTO:+0000
TZNAME:GMT
DTSTART:20291028T010000
END:STANDARD
BEGIN:DAYLIGHT
TZOFFSETFROM:+0000
TZOFFSETTO:+0100
TZNAME:BST
DTSTART:20300331T010000
END:DAYLIGHT
BEGIN:STANDARD
TZOFFSETFROM:+0100
TZOFFSETTO:+0000
TZNAME:GMT
DTSTART:20301027T010000
END:STANDARD
BEGIN:DAYLIGHT
TZOFFSETFROM:+0000
TZOFFSETTO:+0100
TZNAME:BST
DTSTART:20310330T010000
END:DAYLIGHT
BEGIN:STANDARD
TZOFFSETFROM:+0100
TZOFFSETTO:+0000
TZNAME:GMT
DTSTART:20311026T010000
END:STANDARD
BEGIN:DAYLIGHT
TZOFFSETFROM:+0000
TZOFFSETTO:+0100
TZNAME:BST
DTSTART:20320328T010000
END:DAYLIGHT
BEGIN:STANDARD
TZOFFSETFROM:+0100
TZOFFSETTO:+0000
TZNAME:GMT
DTSTART:20321031T010000
END:STANDARD
END:VTIMEZONE
BEGIN:VEVENT
DTSTART;TZID=Europe/London:20300515T193000
DTEND;TZID=Europe/London:20300515T210000
DTSTAMP:20260424T175801
CREATED:20240925T152818Z
LAST-MODIFIED:20240925T152819Z
UID:10008153-1905103800-1905109200@chalfordhill.org.uk
SUMMARY:Chalford Parish Local History Group
DESCRIPTION:Venue: France Lynch Church Rooms \nTime: 7:30pm \nWe meet monthly except August and December\, normally on the third Wednesday of the month. \nOur current programme is” here \nPrice: Members £2 non-members £3 (membership £5 per annum)
URL:https://chalfordhill.org.uk/eventchalfordhill/chalford-parish-local-history-group-8/2030-05-15
LOCATION:France Lynch Church Rooms\, Lynch Rd\, Stroud\, GL6 8LL\, United Kingdom
CATEGORIES:History
ATTACH;FMTTYPE=image/png:https://chalfordhill.org.uk/wp-content/uploads/2024/01/local-history-grouprev.png
END:VEVENT
BEGIN:VEVENT
DTSTART;TZID=Europe/London:20300619T193000
DTEND;TZID=Europe/London:20300619T210000
DTSTAMP:20260424T175801
CREATED:20240925T152818Z
LAST-MODIFIED:20240925T152819Z
UID:10008171-1908127800-1908133200@chalfordhill.org.uk
SUMMARY:Chalford Parish Local History Group
DESCRIPTION:Venue: France Lynch Church Rooms \nTime: 7:30pm \nWe meet monthly except August and December\, normally on the third Wednesday of the month. \nOur current programme is” here \nPrice: Members £2 non-members £3 (membership £5 per annum)
URL:https://chalfordhill.org.uk/eventchalfordhill/chalford-parish-local-history-group-8/2030-06-19
LOCATION:France Lynch Church Rooms\, Lynch Rd\, Stroud\, GL6 8LL\, United Kingdom
CATEGORIES:History
ATTACH;FMTTYPE=image/png:https://chalfordhill.org.uk/wp-content/uploads/2024/01/local-history-grouprev.png
END:VEVENT
BEGIN:VEVENT
DTSTART;TZID=Europe/London:20300717T193000
DTEND;TZID=Europe/London:20300717T210000
DTSTAMP:20260424T175801
CREATED:20240925T152818Z
LAST-MODIFIED:20240925T152819Z
UID:10008210-1910547000-1910552400@chalfordhill.org.uk
SUMMARY:Chalford Parish Local History Group
DESCRIPTION:Venue: France Lynch Church Rooms \nTime: 7:30pm \nWe meet monthly except August and December\, normally on the third Wednesday of the month. \nOur current programme is” here \nPrice: Members £2 non-members £3 (membership £5 per annum)
URL:https://chalfordhill.org.uk/eventchalfordhill/chalford-parish-local-history-group-8/2030-07-17
LOCATION:France Lynch Church Rooms\, Lynch Rd\, Stroud\, GL6 8LL\, United Kingdom
CATEGORIES:History
ATTACH;FMTTYPE=image/png:https://chalfordhill.org.uk/wp-content/uploads/2024/01/local-history-grouprev.png
END:VEVENT
BEGIN:VEVENT
DTSTART;TZID=Europe/London:20300821T193000
DTEND;TZID=Europe/London:20300821T210000
DTSTAMP:20260424T175801
CREATED:20240925T152818Z
LAST-MODIFIED:20240925T152819Z
UID:10008211-1913571000-1913576400@chalfordhill.org.uk
SUMMARY:Chalford Parish Local History Group
DESCRIPTION:Venue: France Lynch Church Rooms \nTime: 7:30pm \nWe meet monthly except August and December\, normally on the third Wednesday of the month. \nOur current programme is” here \nPrice: Members £2 non-members £3 (membership £5 per annum)
URL:https://chalfordhill.org.uk/eventchalfordhill/chalford-parish-local-history-group-8/2030-08-21
LOCATION:France Lynch Church Rooms\, Lynch Rd\, Stroud\, GL6 8LL\, United Kingdom
CATEGORIES:History
ATTACH;FMTTYPE=image/png:https://chalfordhill.org.uk/wp-content/uploads/2024/01/local-history-grouprev.png
END:VEVENT
BEGIN:VEVENT
DTSTART;TZID=Europe/London:20300918T193000
DTEND;TZID=Europe/London:20300918T210000
DTSTAMP:20260424T175801
CREATED:20240925T152818Z
LAST-MODIFIED:20240925T152819Z
UID:10008251-1915990200-1915995600@chalfordhill.org.uk
SUMMARY:Chalford Parish Local History Group
DESCRIPTION:Venue: France Lynch Church Rooms \nTime: 7:30pm \nWe meet monthly except August and December\, normally on the third Wednesday of the month. \nOur current programme is” here \nPrice: Members £2 non-members £3 (membership £5 per annum)
URL:https://chalfordhill.org.uk/eventchalfordhill/chalford-parish-local-history-group-8/2030-09-18
LOCATION:France Lynch Church Rooms\, Lynch Rd\, Stroud\, GL6 8LL\, United Kingdom
CATEGORIES:History
ATTACH;FMTTYPE=image/png:https://chalfordhill.org.uk/wp-content/uploads/2024/01/local-history-grouprev.png
END:VEVENT
BEGIN:VEVENT
DTSTART;TZID=Europe/London:20301016T193000
DTEND;TZID=Europe/London:20301016T210000
DTSTAMP:20260424T175801
CREATED:20240925T152818Z
LAST-MODIFIED:20240925T152819Z
UID:10008272-1918409400-1918414800@chalfordhill.org.uk
SUMMARY:Chalford Parish Local History Group
DESCRIPTION:Venue: France Lynch Church Rooms \nTime: 7:30pm \nWe meet monthly except August and December\, normally on the third Wednesday of the month. \nOur current programme is” here \nPrice: Members £2 non-members £3 (membership £5 per annum)
URL:https://chalfordhill.org.uk/eventchalfordhill/chalford-parish-local-history-group-8/2030-10-16
LOCATION:France Lynch Church Rooms\, Lynch Rd\, Stroud\, GL6 8LL\, United Kingdom
CATEGORIES:History
ATTACH;FMTTYPE=image/png:https://chalfordhill.org.uk/wp-content/uploads/2024/01/local-history-grouprev.png
END:VEVENT
BEGIN:VEVENT
DTSTART;TZID=Europe/London:20301120T193000
DTEND;TZID=Europe/London:20301120T210000
DTSTAMP:20260424T175801
CREATED:20240925T152818Z
LAST-MODIFIED:20240925T152819Z
UID:10008422-1921433400-1921438800@chalfordhill.org.uk
SUMMARY:Chalford Parish Local History Group
DESCRIPTION:Venue: France Lynch Church Rooms \nTime: 7:30pm \nWe meet monthly except August and December\, normally on the third Wednesday of the month. \nOur current programme is” here \nPrice: Members £2 non-members £3 (membership £5 per annum)
URL:https://chalfordhill.org.uk/eventchalfordhill/chalford-parish-local-history-group-8/2030-11-20
LOCATION:France Lynch Church Rooms\, Lynch Rd\, Stroud\, GL6 8LL\, United Kingdom
CATEGORIES:History
ATTACH;FMTTYPE=image/png:https://chalfordhill.org.uk/wp-content/uploads/2024/01/local-history-grouprev.png
END:VEVENT
BEGIN:VEVENT
DTSTART;TZID=Europe/London:20301218T193000
DTEND;TZID=Europe/London:20301218T210000
DTSTAMP:20260424T175801
CREATED:20240925T152818Z
LAST-MODIFIED:20240925T152819Z
UID:10008423-1923852600-1923858000@chalfordhill.org.uk
SUMMARY:Chalford Parish Local History Group
DESCRIPTION:Venue: France Lynch Church Rooms \nTime: 7:30pm \nWe meet monthly except August and December\, normally on the third Wednesday of the month. \nOur current programme is” here \nPrice: Members £2 non-members £3 (membership £5 per annum)
URL:https://chalfordhill.org.uk/eventchalfordhill/chalford-parish-local-history-group-8/2030-12-18
LOCATION:France Lynch Church Rooms\, Lynch Rd\, Stroud\, GL6 8LL\, United Kingdom
CATEGORIES:History
ATTACH;FMTTYPE=image/png:https://chalfordhill.org.uk/wp-content/uploads/2024/01/local-history-grouprev.png
END:VEVENT
BEGIN:VEVENT
DTSTART;TZID=Europe/London:20310115T193000
DTEND;TZID=Europe/London:20310115T210000
DTSTAMP:20260424T175801
CREATED:20240925T152818Z
LAST-MODIFIED:20240925T152819Z
UID:10008424-1926271800-1926277200@chalfordhill.org.uk
SUMMARY:Chalford Parish Local History Group
DESCRIPTION:Venue: France Lynch Church Rooms \nTime: 7:30pm \nWe meet monthly except August and December\, normally on the third Wednesday of the month. \nOur current programme is” here \nPrice: Members £2 non-members £3 (membership £5 per annum)
URL:https://chalfordhill.org.uk/eventchalfordhill/chalford-parish-local-history-group-8/2031-01-15
LOCATION:France Lynch Church Rooms\, Lynch Rd\, Stroud\, GL6 8LL\, United Kingdom
CATEGORIES:History
ATTACH;FMTTYPE=image/png:https://chalfordhill.org.uk/wp-content/uploads/2024/01/local-history-grouprev.png
END:VEVENT
BEGIN:VEVENT
DTSTART;TZID=Europe/London:20310219T193000
DTEND;TZID=Europe/London:20310219T210000
DTSTAMP:20260424T175801
CREATED:20240925T152818Z
LAST-MODIFIED:20240925T152819Z
UID:10008437-1929295800-1929301200@chalfordhill.org.uk
SUMMARY:Chalford Parish Local History Group
DESCRIPTION:Venue: France Lynch Church Rooms \nTime: 7:30pm \nWe meet monthly except August and December\, normally on the third Wednesday of the month. \nOur current programme is” here \nPrice: Members £2 non-members £3 (membership £5 per annum)
URL:https://chalfordhill.org.uk/eventchalfordhill/chalford-parish-local-history-group-8/2031-02-19
LOCATION:France Lynch Church Rooms\, Lynch Rd\, Stroud\, GL6 8LL\, United Kingdom
CATEGORIES:History
ATTACH;FMTTYPE=image/png:https://chalfordhill.org.uk/wp-content/uploads/2024/01/local-history-grouprev.png
END:VEVENT
BEGIN:VEVENT
DTSTART;TZID=Europe/London:20310319T193000
DTEND;TZID=Europe/London:20310319T210000
DTSTAMP:20260424T175801
CREATED:20240925T152818Z
LAST-MODIFIED:20240925T152819Z
UID:10008495-1931715000-1931720400@chalfordhill.org.uk
SUMMARY:Chalford Parish Local History Group
DESCRIPTION:Venue: France Lynch Church Rooms \nTime: 7:30pm \nWe meet monthly except August and December\, normally on the third Wednesday of the month. \nOur current programme is” here \nPrice: Members £2 non-members £3 (membership £5 per annum)
URL:https://chalfordhill.org.uk/eventchalfordhill/chalford-parish-local-history-group-8/2031-03-19
LOCATION:France Lynch Church Rooms\, Lynch Rd\, Stroud\, GL6 8LL\, United Kingdom
CATEGORIES:History
ATTACH;FMTTYPE=image/png:https://chalfordhill.org.uk/wp-content/uploads/2024/01/local-history-grouprev.png
END:VEVENT
END:VCALENDAR