BEGIN:VCALENDAR
VERSION:2.0
PRODID:-//Chalford Hill - ECPv6.15.20//NONSGML v1.0//EN
CALSCALE:GREGORIAN
METHOD:PUBLISH
X-WR-CALNAME:Chalford Hill
X-ORIGINAL-URL:https://chalfordhill.org.uk
X-WR-CALDESC:Events for Chalford Hill
REFRESH-INTERVAL;VALUE=DURATION:PT1H
X-Robots-Tag:noindex
X-PUBLISHED-TTL:PT1H
BEGIN:VTIMEZONE
TZID:Europe/London
BEGIN:DAYLIGHT
TZOFFSETFROM:+0000
TZOFFSETTO:+0100
TZNAME:BST
DTSTART:20280326T010000
END:DAYLIGHT
BEGIN:STANDARD
TZOFFSETFROM:+0100
TZOFFSETTO:+0000
TZNAME:GMT
DTSTART:20281029T010000
END:STANDARD
BEGIN:DAYLIGHT
TZOFFSETFROM:+0000
TZOFFSETTO:+0100
TZNAME:BST
DTSTART:20290325T010000
END:DAYLIGHT
BEGIN:STANDARD
TZOFFSETFROM:+0100
TZOFFSETTO:+0000
TZNAME:GMT
DTSTART:20291028T010000
END:STANDARD
BEGIN:DAYLIGHT
TZOFFSETFROM:+0000
TZOFFSETTO:+0100
TZNAME:BST
DTSTART:20300331T010000
END:DAYLIGHT
BEGIN:STANDARD
TZOFFSETFROM:+0100
TZOFFSETTO:+0000
TZNAME:GMT
DTSTART:20301027T010000
END:STANDARD
BEGIN:DAYLIGHT
TZOFFSETFROM:+0000
TZOFFSETTO:+0100
TZNAME:BST
DTSTART:20310330T010000
END:DAYLIGHT
BEGIN:STANDARD
TZOFFSETFROM:+0100
TZOFFSETTO:+0000
TZNAME:GMT
DTSTART:20311026T010000
END:STANDARD
BEGIN:DAYLIGHT
TZOFFSETFROM:+0000
TZOFFSETTO:+0100
TZNAME:BST
DTSTART:20320328T010000
END:DAYLIGHT
BEGIN:STANDARD
TZOFFSETFROM:+0100
TZOFFSETTO:+0000
TZNAME:GMT
DTSTART:20321031T010000
END:STANDARD
END:VTIMEZONE
BEGIN:VEVENT
DTSTART;TZID=Europe/London:20290509T190000
DTEND;TZID=Europe/London:20290509T210000
DTSTAMP:20260424T162527
CREATED:20250131T112810Z
LAST-MODIFIED:20250131T112810Z
UID:10006312-1873047600-1873054800@chalfordhill.org.uk
SUMMARY:France Lynch Womens Institute
DESCRIPTION:Venue: France Lynch Church Rooms \nTime: 7:30pm \nGuest Speaker: TBA \nVisitors and new members always welcome. \nContact Anthea Coles for more information 01453 882258 \n 
URL:https://chalfordhill.org.uk/eventchalfordhill/france-lynch-womens-institute-10/2029-05-09
LOCATION:France Lynch Church Rooms\, Lynch Rd\, Stroud\, GL6 8LL\, United Kingdom
ATTACH;FMTTYPE=image/jpeg:https://chalfordhill.org.uk/wp-content/uploads/2024/01/FL-wi.jpg
ORGANIZER;CN="Ann Allnut":MAILTO:ajallnut_2@yahoo.co.uk
END:VEVENT
BEGIN:VEVENT
DTSTART;TZID=Europe/London:20290613T190000
DTEND;TZID=Europe/London:20290613T210000
DTSTAMP:20260424T162527
CREATED:20250131T112810Z
LAST-MODIFIED:20250131T112810Z
UID:10006590-1876071600-1876078800@chalfordhill.org.uk
SUMMARY:France Lynch Womens Institute
DESCRIPTION:Venue: France Lynch Church Rooms \nTime: 7:30pm \nGuest Speaker: TBA \nVisitors and new members always welcome. \nContact Anthea Coles for more information 01453 882258 \n 
URL:https://chalfordhill.org.uk/eventchalfordhill/france-lynch-womens-institute-10/2029-06-13
LOCATION:France Lynch Church Rooms\, Lynch Rd\, Stroud\, GL6 8LL\, United Kingdom
ATTACH;FMTTYPE=image/jpeg:https://chalfordhill.org.uk/wp-content/uploads/2024/01/FL-wi.jpg
ORGANIZER;CN="Ann Allnut":MAILTO:ajallnut_2@yahoo.co.uk
END:VEVENT
BEGIN:VEVENT
DTSTART;TZID=Europe/London:20290711T190000
DTEND;TZID=Europe/London:20290711T210000
DTSTAMP:20260424T162528
CREATED:20250131T112810Z
LAST-MODIFIED:20250131T112810Z
UID:10006950-1878490800-1878498000@chalfordhill.org.uk
SUMMARY:France Lynch Womens Institute
DESCRIPTION:Venue: France Lynch Church Rooms \nTime: 7:30pm \nGuest Speaker: TBA \nVisitors and new members always welcome. \nContact Anthea Coles for more information 01453 882258 \n 
URL:https://chalfordhill.org.uk/eventchalfordhill/france-lynch-womens-institute-10/2029-07-11
LOCATION:France Lynch Church Rooms\, Lynch Rd\, Stroud\, GL6 8LL\, United Kingdom
ATTACH;FMTTYPE=image/jpeg:https://chalfordhill.org.uk/wp-content/uploads/2024/01/FL-wi.jpg
ORGANIZER;CN="Ann Allnut":MAILTO:ajallnut_2@yahoo.co.uk
END:VEVENT
BEGIN:VEVENT
DTSTART;TZID=Europe/London:20290808T190000
DTEND;TZID=Europe/London:20290808T210000
DTSTAMP:20260424T162528
CREATED:20250131T112810Z
LAST-MODIFIED:20250131T112810Z
UID:10006951-1880910000-1880917200@chalfordhill.org.uk
SUMMARY:France Lynch Womens Institute
DESCRIPTION:Venue: France Lynch Church Rooms \nTime: 7:30pm \nGuest Speaker: TBA \nVisitors and new members always welcome. \nContact Anthea Coles for more information 01453 882258 \n 
URL:https://chalfordhill.org.uk/eventchalfordhill/france-lynch-womens-institute-10/2029-08-08
LOCATION:France Lynch Church Rooms\, Lynch Rd\, Stroud\, GL6 8LL\, United Kingdom
ATTACH;FMTTYPE=image/jpeg:https://chalfordhill.org.uk/wp-content/uploads/2024/01/FL-wi.jpg
ORGANIZER;CN="Ann Allnut":MAILTO:ajallnut_2@yahoo.co.uk
END:VEVENT
BEGIN:VEVENT
DTSTART;TZID=Europe/London:20290912T190000
DTEND;TZID=Europe/London:20290912T210000
DTSTAMP:20260424T162528
CREATED:20250131T112810Z
LAST-MODIFIED:20250131T112810Z
UID:10006976-1883934000-1883941200@chalfordhill.org.uk
SUMMARY:France Lynch Womens Institute
DESCRIPTION:Venue: France Lynch Church Rooms \nTime: 7:30pm \nGuest Speaker: TBA \nVisitors and new members always welcome. \nContact Anthea Coles for more information 01453 882258 \n 
URL:https://chalfordhill.org.uk/eventchalfordhill/france-lynch-womens-institute-10/2029-09-12
LOCATION:France Lynch Church Rooms\, Lynch Rd\, Stroud\, GL6 8LL\, United Kingdom
ATTACH;FMTTYPE=image/jpeg:https://chalfordhill.org.uk/wp-content/uploads/2024/01/FL-wi.jpg
ORGANIZER;CN="Ann Allnut":MAILTO:ajallnut_2@yahoo.co.uk
END:VEVENT
BEGIN:VEVENT
DTSTART;TZID=Europe/London:20291010T190000
DTEND;TZID=Europe/London:20291010T210000
DTSTAMP:20260424T162528
CREATED:20250131T112810Z
LAST-MODIFIED:20250131T112810Z
UID:10006983-1886353200-1886360400@chalfordhill.org.uk
SUMMARY:France Lynch Womens Institute
DESCRIPTION:Venue: France Lynch Church Rooms \nTime: 7:30pm \nGuest Speaker: TBA \nVisitors and new members always welcome. \nContact Anthea Coles for more information 01453 882258 \n 
URL:https://chalfordhill.org.uk/eventchalfordhill/france-lynch-womens-institute-10/2029-10-10
LOCATION:France Lynch Church Rooms\, Lynch Rd\, Stroud\, GL6 8LL\, United Kingdom
ATTACH;FMTTYPE=image/jpeg:https://chalfordhill.org.uk/wp-content/uploads/2024/01/FL-wi.jpg
ORGANIZER;CN="Ann Allnut":MAILTO:ajallnut_2@yahoo.co.uk
END:VEVENT
BEGIN:VEVENT
DTSTART;TZID=Europe/London:20291114T190000
DTEND;TZID=Europe/London:20291114T210000
DTSTAMP:20260424T162528
CREATED:20250131T112810Z
LAST-MODIFIED:20250131T112810Z
UID:10007115-1889377200-1889384400@chalfordhill.org.uk
SUMMARY:France Lynch Womens Institute
DESCRIPTION:Venue: France Lynch Church Rooms \nTime: 7:30pm \nGuest Speaker: TBA \nVisitors and new members always welcome. \nContact Anthea Coles for more information 01453 882258 \n 
URL:https://chalfordhill.org.uk/eventchalfordhill/france-lynch-womens-institute-10/2029-11-14
LOCATION:France Lynch Church Rooms\, Lynch Rd\, Stroud\, GL6 8LL\, United Kingdom
ATTACH;FMTTYPE=image/jpeg:https://chalfordhill.org.uk/wp-content/uploads/2024/01/FL-wi.jpg
ORGANIZER;CN="Ann Allnut":MAILTO:ajallnut_2@yahoo.co.uk
END:VEVENT
BEGIN:VEVENT
DTSTART;TZID=Europe/London:20291212T190000
DTEND;TZID=Europe/London:20291212T210000
DTSTAMP:20260424T162528
CREATED:20250131T112810Z
LAST-MODIFIED:20250131T112810Z
UID:10007474-1891796400-1891803600@chalfordhill.org.uk
SUMMARY:France Lynch Womens Institute
DESCRIPTION:Venue: France Lynch Church Rooms \nTime: 7:30pm \nGuest Speaker: TBA \nVisitors and new members always welcome. \nContact Anthea Coles for more information 01453 882258 \n 
URL:https://chalfordhill.org.uk/eventchalfordhill/france-lynch-womens-institute-10/2029-12-12
LOCATION:France Lynch Church Rooms\, Lynch Rd\, Stroud\, GL6 8LL\, United Kingdom
ATTACH;FMTTYPE=image/jpeg:https://chalfordhill.org.uk/wp-content/uploads/2024/01/FL-wi.jpg
ORGANIZER;CN="Ann Allnut":MAILTO:ajallnut_2@yahoo.co.uk
END:VEVENT
BEGIN:VEVENT
DTSTART;TZID=Europe/London:20300109T190000
DTEND;TZID=Europe/London:20300109T210000
DTSTAMP:20260424T162528
CREATED:20250131T112810Z
LAST-MODIFIED:20250131T112810Z
UID:10007475-1894215600-1894222800@chalfordhill.org.uk
SUMMARY:France Lynch Womens Institute
DESCRIPTION:Venue: France Lynch Church Rooms \nTime: 7:30pm \nGuest Speaker: TBA \nVisitors and new members always welcome. \nContact Anthea Coles for more information 01453 882258 \n 
URL:https://chalfordhill.org.uk/eventchalfordhill/france-lynch-womens-institute-10/2030-01-09
LOCATION:France Lynch Church Rooms\, Lynch Rd\, Stroud\, GL6 8LL\, United Kingdom
ATTACH;FMTTYPE=image/jpeg:https://chalfordhill.org.uk/wp-content/uploads/2024/01/FL-wi.jpg
ORGANIZER;CN="Ann Allnut":MAILTO:ajallnut_2@yahoo.co.uk
END:VEVENT
BEGIN:VEVENT
DTSTART;TZID=Europe/London:20300213T190000
DTEND;TZID=Europe/London:20300213T210000
DTSTAMP:20260424T162528
CREATED:20250131T112810Z
LAST-MODIFIED:20250131T112810Z
UID:10007833-1897239600-1897246800@chalfordhill.org.uk
SUMMARY:France Lynch Womens Institute
DESCRIPTION:Venue: France Lynch Church Rooms \nTime: 7:30pm \nGuest Speaker: TBA \nVisitors and new members always welcome. \nContact Anthea Coles for more information 01453 882258 \n 
URL:https://chalfordhill.org.uk/eventchalfordhill/france-lynch-womens-institute-10/2030-02-13
LOCATION:France Lynch Church Rooms\, Lynch Rd\, Stroud\, GL6 8LL\, United Kingdom
ATTACH;FMTTYPE=image/jpeg:https://chalfordhill.org.uk/wp-content/uploads/2024/01/FL-wi.jpg
ORGANIZER;CN="Ann Allnut":MAILTO:ajallnut_2@yahoo.co.uk
END:VEVENT
BEGIN:VEVENT
DTSTART;TZID=Europe/London:20300313T190000
DTEND;TZID=Europe/London:20300313T210000
DTSTAMP:20260424T162528
CREATED:20250131T112810Z
LAST-MODIFIED:20250131T112810Z
UID:10007839-1899658800-1899666000@chalfordhill.org.uk
SUMMARY:France Lynch Womens Institute
DESCRIPTION:Venue: France Lynch Church Rooms \nTime: 7:30pm \nGuest Speaker: TBA \nVisitors and new members always welcome. \nContact Anthea Coles for more information 01453 882258 \n 
URL:https://chalfordhill.org.uk/eventchalfordhill/france-lynch-womens-institute-10/2030-03-13
LOCATION:France Lynch Church Rooms\, Lynch Rd\, Stroud\, GL6 8LL\, United Kingdom
ATTACH;FMTTYPE=image/jpeg:https://chalfordhill.org.uk/wp-content/uploads/2024/01/FL-wi.jpg
ORGANIZER;CN="Ann Allnut":MAILTO:ajallnut_2@yahoo.co.uk
END:VEVENT
BEGIN:VEVENT
DTSTART;TZID=Europe/London:20300410T190000
DTEND;TZID=Europe/London:20300410T210000
DTSTAMP:20260424T162528
CREATED:20250131T112810Z
LAST-MODIFIED:20250131T112810Z
UID:10008154-1902078000-1902085200@chalfordhill.org.uk
SUMMARY:France Lynch Womens Institute
DESCRIPTION:Venue: France Lynch Church Rooms \nTime: 7:30pm \nGuest Speaker: TBA \nVisitors and new members always welcome. \nContact Anthea Coles for more information 01453 882258 \n 
URL:https://chalfordhill.org.uk/eventchalfordhill/france-lynch-womens-institute-10/2030-04-10
LOCATION:France Lynch Church Rooms\, Lynch Rd\, Stroud\, GL6 8LL\, United Kingdom
ATTACH;FMTTYPE=image/jpeg:https://chalfordhill.org.uk/wp-content/uploads/2024/01/FL-wi.jpg
ORGANIZER;CN="Ann Allnut":MAILTO:ajallnut_2@yahoo.co.uk
END:VEVENT
BEGIN:VEVENT
DTSTART;TZID=Europe/London:20300508T190000
DTEND;TZID=Europe/London:20300508T210000
DTSTAMP:20260424T162528
CREATED:20250131T112810Z
LAST-MODIFIED:20250131T112810Z
UID:10008155-1904497200-1904504400@chalfordhill.org.uk
SUMMARY:France Lynch Womens Institute
DESCRIPTION:Venue: France Lynch Church Rooms \nTime: 7:30pm \nGuest Speaker: TBA \nVisitors and new members always welcome. \nContact Anthea Coles for more information 01453 882258 \n 
URL:https://chalfordhill.org.uk/eventchalfordhill/france-lynch-womens-institute-10/2030-05-08
LOCATION:France Lynch Church Rooms\, Lynch Rd\, Stroud\, GL6 8LL\, United Kingdom
ATTACH;FMTTYPE=image/jpeg:https://chalfordhill.org.uk/wp-content/uploads/2024/01/FL-wi.jpg
ORGANIZER;CN="Ann Allnut":MAILTO:ajallnut_2@yahoo.co.uk
END:VEVENT
BEGIN:VEVENT
DTSTART;TZID=Europe/London:20300612T190000
DTEND;TZID=Europe/London:20300612T210000
DTSTAMP:20260424T162528
CREATED:20250131T112810Z
LAST-MODIFIED:20250131T112810Z
UID:10008172-1907521200-1907528400@chalfordhill.org.uk
SUMMARY:France Lynch Womens Institute
DESCRIPTION:Venue: France Lynch Church Rooms \nTime: 7:30pm \nGuest Speaker: TBA \nVisitors and new members always welcome. \nContact Anthea Coles for more information 01453 882258 \n 
URL:https://chalfordhill.org.uk/eventchalfordhill/france-lynch-womens-institute-10/2030-06-12
LOCATION:France Lynch Church Rooms\, Lynch Rd\, Stroud\, GL6 8LL\, United Kingdom
ATTACH;FMTTYPE=image/jpeg:https://chalfordhill.org.uk/wp-content/uploads/2024/01/FL-wi.jpg
ORGANIZER;CN="Ann Allnut":MAILTO:ajallnut_2@yahoo.co.uk
END:VEVENT
BEGIN:VEVENT
DTSTART;TZID=Europe/London:20300710T190000
DTEND;TZID=Europe/London:20300710T210000
DTSTAMP:20260424T162528
CREATED:20250131T112810Z
LAST-MODIFIED:20250131T112810Z
UID:10008184-1909940400-1909947600@chalfordhill.org.uk
SUMMARY:France Lynch Womens Institute
DESCRIPTION:Venue: France Lynch Church Rooms \nTime: 7:30pm \nGuest Speaker: TBA \nVisitors and new members always welcome. \nContact Anthea Coles for more information 01453 882258 \n 
URL:https://chalfordhill.org.uk/eventchalfordhill/france-lynch-womens-institute-10/2030-07-10
LOCATION:France Lynch Church Rooms\, Lynch Rd\, Stroud\, GL6 8LL\, United Kingdom
ATTACH;FMTTYPE=image/jpeg:https://chalfordhill.org.uk/wp-content/uploads/2024/01/FL-wi.jpg
ORGANIZER;CN="Ann Allnut":MAILTO:ajallnut_2@yahoo.co.uk
END:VEVENT
BEGIN:VEVENT
DTSTART;TZID=Europe/London:20300814T190000
DTEND;TZID=Europe/London:20300814T210000
DTSTAMP:20260424T162528
CREATED:20250131T112810Z
LAST-MODIFIED:20250131T112810Z
UID:10008252-1912964400-1912971600@chalfordhill.org.uk
SUMMARY:France Lynch Womens Institute
DESCRIPTION:Venue: France Lynch Church Rooms \nTime: 7:30pm \nGuest Speaker: TBA \nVisitors and new members always welcome. \nContact Anthea Coles for more information 01453 882258 \n 
URL:https://chalfordhill.org.uk/eventchalfordhill/france-lynch-womens-institute-10/2030-08-14
LOCATION:France Lynch Church Rooms\, Lynch Rd\, Stroud\, GL6 8LL\, United Kingdom
ATTACH;FMTTYPE=image/jpeg:https://chalfordhill.org.uk/wp-content/uploads/2024/01/FL-wi.jpg
ORGANIZER;CN="Ann Allnut":MAILTO:ajallnut_2@yahoo.co.uk
END:VEVENT
BEGIN:VEVENT
DTSTART;TZID=Europe/London:20300911T190000
DTEND;TZID=Europe/London:20300911T210000
DTSTAMP:20260424T162528
CREATED:20250131T112810Z
LAST-MODIFIED:20250131T112810Z
UID:10008253-1915383600-1915390800@chalfordhill.org.uk
SUMMARY:France Lynch Womens Institute
DESCRIPTION:Venue: France Lynch Church Rooms \nTime: 7:30pm \nGuest Speaker: TBA \nVisitors and new members always welcome. \nContact Anthea Coles for more information 01453 882258 \n 
URL:https://chalfordhill.org.uk/eventchalfordhill/france-lynch-womens-institute-10/2030-09-11
LOCATION:France Lynch Church Rooms\, Lynch Rd\, Stroud\, GL6 8LL\, United Kingdom
ATTACH;FMTTYPE=image/jpeg:https://chalfordhill.org.uk/wp-content/uploads/2024/01/FL-wi.jpg
ORGANIZER;CN="Ann Allnut":MAILTO:ajallnut_2@yahoo.co.uk
END:VEVENT
BEGIN:VEVENT
DTSTART;TZID=Europe/London:20301009T190000
DTEND;TZID=Europe/London:20301009T210000
DTSTAMP:20260424T162528
CREATED:20250131T112810Z
LAST-MODIFIED:20250131T112810Z
UID:10008273-1917802800-1917810000@chalfordhill.org.uk
SUMMARY:France Lynch Womens Institute
DESCRIPTION:Venue: France Lynch Church Rooms \nTime: 7:30pm \nGuest Speaker: TBA \nVisitors and new members always welcome. \nContact Anthea Coles for more information 01453 882258 \n 
URL:https://chalfordhill.org.uk/eventchalfordhill/france-lynch-womens-institute-10/2030-10-09
LOCATION:France Lynch Church Rooms\, Lynch Rd\, Stroud\, GL6 8LL\, United Kingdom
ATTACH;FMTTYPE=image/jpeg:https://chalfordhill.org.uk/wp-content/uploads/2024/01/FL-wi.jpg
ORGANIZER;CN="Ann Allnut":MAILTO:ajallnut_2@yahoo.co.uk
END:VEVENT
BEGIN:VEVENT
DTSTART;TZID=Europe/London:20301113T190000
DTEND;TZID=Europe/London:20301113T210000
DTSTAMP:20260424T162528
CREATED:20250131T112810Z
LAST-MODIFIED:20250131T112810Z
UID:10008425-1920826800-1920834000@chalfordhill.org.uk
SUMMARY:France Lynch Womens Institute
DESCRIPTION:Venue: France Lynch Church Rooms \nTime: 7:30pm \nGuest Speaker: TBA \nVisitors and new members always welcome. \nContact Anthea Coles for more information 01453 882258 \n 
URL:https://chalfordhill.org.uk/eventchalfordhill/france-lynch-womens-institute-10/2030-11-13
LOCATION:France Lynch Church Rooms\, Lynch Rd\, Stroud\, GL6 8LL\, United Kingdom
ATTACH;FMTTYPE=image/jpeg:https://chalfordhill.org.uk/wp-content/uploads/2024/01/FL-wi.jpg
ORGANIZER;CN="Ann Allnut":MAILTO:ajallnut_2@yahoo.co.uk
END:VEVENT
BEGIN:VEVENT
DTSTART;TZID=Europe/London:20301211T190000
DTEND;TZID=Europe/London:20301211T210000
DTSTAMP:20260424T162528
CREATED:20250131T112810Z
LAST-MODIFIED:20250131T112810Z
UID:10008426-1923246000-1923253200@chalfordhill.org.uk
SUMMARY:France Lynch Womens Institute
DESCRIPTION:Venue: France Lynch Church Rooms \nTime: 7:30pm \nGuest Speaker: TBA \nVisitors and new members always welcome. \nContact Anthea Coles for more information 01453 882258 \n 
URL:https://chalfordhill.org.uk/eventchalfordhill/france-lynch-womens-institute-10/2030-12-11
LOCATION:France Lynch Church Rooms\, Lynch Rd\, Stroud\, GL6 8LL\, United Kingdom
ATTACH;FMTTYPE=image/jpeg:https://chalfordhill.org.uk/wp-content/uploads/2024/01/FL-wi.jpg
ORGANIZER;CN="Ann Allnut":MAILTO:ajallnut_2@yahoo.co.uk
END:VEVENT
BEGIN:VEVENT
DTSTART;TZID=Europe/London:20310108T190000
DTEND;TZID=Europe/London:20310108T210000
DTSTAMP:20260424T162528
CREATED:20250131T112810Z
LAST-MODIFIED:20250131T112810Z
UID:10008427-1925665200-1925672400@chalfordhill.org.uk
SUMMARY:France Lynch Womens Institute
DESCRIPTION:Venue: France Lynch Church Rooms \nTime: 7:30pm \nGuest Speaker: TBA \nVisitors and new members always welcome. \nContact Anthea Coles for more information 01453 882258 \n 
URL:https://chalfordhill.org.uk/eventchalfordhill/france-lynch-womens-institute-10/2031-01-08
LOCATION:France Lynch Church Rooms\, Lynch Rd\, Stroud\, GL6 8LL\, United Kingdom
ATTACH;FMTTYPE=image/jpeg:https://chalfordhill.org.uk/wp-content/uploads/2024/01/FL-wi.jpg
ORGANIZER;CN="Ann Allnut":MAILTO:ajallnut_2@yahoo.co.uk
END:VEVENT
BEGIN:VEVENT
DTSTART;TZID=Europe/London:20310212T190000
DTEND;TZID=Europe/London:20310212T210000
DTSTAMP:20260424T162528
CREATED:20250131T112810Z
LAST-MODIFIED:20250131T112810Z
UID:10008451-1928689200-1928696400@chalfordhill.org.uk
SUMMARY:France Lynch Womens Institute
DESCRIPTION:Venue: France Lynch Church Rooms \nTime: 7:30pm \nGuest Speaker: TBA \nVisitors and new members always welcome. \nContact Anthea Coles for more information 01453 882258 \n 
URL:https://chalfordhill.org.uk/eventchalfordhill/france-lynch-womens-institute-10/2031-02-12
LOCATION:France Lynch Church Rooms\, Lynch Rd\, Stroud\, GL6 8LL\, United Kingdom
ATTACH;FMTTYPE=image/jpeg:https://chalfordhill.org.uk/wp-content/uploads/2024/01/FL-wi.jpg
ORGANIZER;CN="Ann Allnut":MAILTO:ajallnut_2@yahoo.co.uk
END:VEVENT
BEGIN:VEVENT
DTSTART;TZID=Europe/London:20310312T190000
DTEND;TZID=Europe/London:20310312T210000
DTSTAMP:20260424T162528
CREATED:20250131T112810Z
LAST-MODIFIED:20250131T112810Z
UID:10008497-1931108400-1931115600@chalfordhill.org.uk
SUMMARY:France Lynch Womens Institute
DESCRIPTION:Venue: France Lynch Church Rooms \nTime: 7:30pm \nGuest Speaker: TBA \nVisitors and new members always welcome. \nContact Anthea Coles for more information 01453 882258 \n 
URL:https://chalfordhill.org.uk/eventchalfordhill/france-lynch-womens-institute-10/2031-03-12
LOCATION:France Lynch Church Rooms\, Lynch Rd\, Stroud\, GL6 8LL\, United Kingdom
ATTACH;FMTTYPE=image/jpeg:https://chalfordhill.org.uk/wp-content/uploads/2024/01/FL-wi.jpg
ORGANIZER;CN="Ann Allnut":MAILTO:ajallnut_2@yahoo.co.uk
END:VEVENT
END:VCALENDAR